BEGIN:VCALENDAR
VERSION:2.0
PRODID:-//hacksw/handcal//NONSGML v1.0//EN
BEGIN:VEVENT
UID:3638f6e2dde249b78b0a72f7dc691255
DTSTAMP:20260419T115156Z

DTSTART:20120406T200000
DTEND:20120406T230000
SUMMARY:Nächtliche Raupensuche am Warndtweiher
DESCRIPTION:Nun wird die Raupen-Erstbeo für M. athalia endlich erfolgen --> mit Ansage. Außerdem steht B. euphrosyne auf der Zielartenliste. Sind sie wirklich nachtaktiv? Wir werden sehen

X-ALT-DESC;FMTTYPE=text/html:<!DOCTYPE HTML PUBLIC "-//W3C//DTD HTML 3.2//EN">\n<HTML>\n<HEAD>\n<META NAME="Generator" CONTENT="MS Exchange Server version 08.00.0681.000">\n<TITLE></TITLE>\n</HEAD>\n<BODY>\n<!-- Converted from text/rtf format -->\n\nNun wird die Raupen-Erstbeo für M. athalia endlich erfolgen --> mit Ansage. Außerdem steht B. euphrosyne auf der Zielartenliste. Sind sie wirklich nachtaktiv? Wir werden sehen\n\n</BODY>\n</HTML>

LOCATION:Lauterbach, Warndtweiher
END:VEVENT

END:VCALENDAR
