BEGIN:VCALENDAR
VERSION:2.0
PRODID:-//hacksw/handcal//NONSGML v1.0//EN
BEGIN:VEVENT
UID:18c433b8b56b903dac171def345d1091
DTSTAMP:20260422T221612Z

DTSTART:20120420T210000
DTEND:20120421T040000
SUMMARY:Lichtfang in Perl, Hammelsberg
DESCRIPTION:Nähere Auskünfte über die Exkursionen erteilt Andreas Werno, Tel. 06874/182370
Bei Teilnahme bitte telefonische Anmeldung ab 17 Uhr -
spätestens 18 Uhr des Exkursionstages. Änderungen sind jederzeit möglich.

X-ALT-DESC;FMTTYPE=text/html:<!DOCTYPE HTML PUBLIC "-//W3C//DTD HTML 3.2//EN">\n<HTML>\n<HEAD>\n<META NAME="Generator" CONTENT="MS Exchange Server version 08.00.0681.000">\n<TITLE></TITLE>\n</HEAD>\n<BODY>\n<!-- Converted from text/rtf format -->\n\nNähere Auskünfte über die Exkursionen erteilt Andreas Werno, Tel. 06874/182370
Bei Teilnahme bitte telefonische Anmeldung ab 17 Uhr -
spätestens 18 Uhr des Exkursionstages. Änderungen sind jederzeit möglich.\n\n</BODY>\n</HTML>

LOCATION:Perl, Hammelsberg, 6408-214-25-52
END:VEVENT

END:VCALENDAR
