BEGIN:VCALENDAR
VERSION:2.0
PRODID:-//hacksw/handcal//NONSGML v1.0//EN
BEGIN:VEVENT
UID:62c357c4b6d34aad0926d2c6875d1a81
DTSTAMP:20260425T102849Z

DTSTART:20120502T190000
DTEND:20120502T230000
SUMMARY:Grill– und Gesprächsabend
DESCRIPTION:Für Mitglieder des Entomologischen Vereins Apollo und diejenige, die es werden wollen. Ich habe es leider nie geschafft - habe es aber weiter fest vor, dort mal vorbei zu schauen.\nhttp://www.apollo-frankfurt.de/de/programm/index.html

X-ALT-DESC;FMTTYPE=text/html:<!DOCTYPE HTML PUBLIC "-//W3C//DTD HTML 3.2//EN">\n<HTML>\n<HEAD>\n<META NAME="Generator" CONTENT="MS Exchange Server version 08.00.0681.000">\n<TITLE></TITLE>\n</HEAD>\n<BODY>\n<!-- Converted from text/rtf format -->\n\n<p>Für Mitglieder des Entomologischen Vereins Apollo und diejenige, die es werden wollen. Ich habe es leider nie geschafft - habe es aber weiter fest vor, dort mal vorbei zu schauen.</p><br /><p><a href="http://www.apollo-frankfurt.de/de/programm/index.html">http://www.apollo-frankfurt.de/de/programm/index.html</a></p>\n\n</BODY>\n</HTML>

LOCATION:Königstein im Taunus, Vereinsheim des Entomogischen Vereins Apollo e.V.
END:VEVENT

END:VCALENDAR
