BEGIN:VCALENDAR
VERSION:2.0
PRODID:-//hacksw/handcal//NONSGML v1.0//EN
BEGIN:VEVENT
UID:08d95157054867ec9abf606240679541
DTSTAMP:20260419T191033Z

DTSTART:20120616T130000
DTEND:20120616T180000
SUMMARY:Tagfalter–Monitoring und Exkursion am Berger Hang
DESCRIPTION:http://www.apollo-frankfurt.de/de/programm/index.html

X-ALT-DESC;FMTTYPE=text/html:<!DOCTYPE HTML PUBLIC "-//W3C//DTD HTML 3.2//EN">\n<HTML>\n<HEAD>\n<META NAME="Generator" CONTENT="MS Exchange Server version 08.00.0681.000">\n<TITLE></TITLE>\n</HEAD>\n<BODY>\n<!-- Converted from text/rtf format -->\n\n<p><a href="http://www.apollo-frankfurt.de/de/programm/index.html">http://www.apollo-frankfurt.de/de/programm/index.html</a></p>\n\n</BODY>\n</HTML>

LOCATION:Hanau
END:VEVENT

END:VCALENDAR
