BEGIN:VCALENDAR
VERSION:2.0
PRODID:-//hacksw/handcal//NONSGML v1.0//EN
BEGIN:VEVENT
UID:fbb4ea638ff0346c660a8bdb286e60de
DTSTAMP:20260419T190833Z

DTSTART:20120622T090000
DTEND:20120622T220000
SUMMARY:ABGESAGT: 1001 Feuerfalter (Bitche und Umgebung)
DESCRIPTION:Tausende L. virgaureae auf einer Fläche eines Fußballfeldes? Ja das gibt es... L. alciphron gibt es auch in Mengen. Weiter können B. circe und sehr sehr viele A. adippe, aglaja sehen.\nSchaut mal hier:\nhttp://www.schmetterlingsforum.de/exkursionen/ein-tag-im-bitcher-land

X-ALT-DESC;FMTTYPE=text/html:<!DOCTYPE HTML PUBLIC "-//W3C//DTD HTML 3.2//EN">\n<HTML>\n<HEAD>\n<META NAME="Generator" CONTENT="MS Exchange Server version 08.00.0681.000">\n<TITLE></TITLE>\n</HEAD>\n<BODY>\n<!-- Converted from text/rtf format -->\n\n<p>Tausende L. virgaureae auf einer Fläche eines Fußballfeldes? Ja das gibt es... L. alciphron gibt es auch in Mengen. Weiter können B. circe und sehr sehr viele A. adippe, aglaja sehen.</p><br /><p>Schaut mal hier:</p><br /><p><a href="/exkursionen/ein-tag-im-bitcher-land">http://www.schmetterlingsforum.de/exkursionen/ein-tag-im-bitcher-land</a></p>\n\n</BODY>\n</HTML>

LOCATION:Bitche, Frankreich, genauer Ort nur an Teilnehmer
END:VEVENT

END:VCALENDAR
