BEGIN:VCALENDAR
VERSION:2.0
PRODID:-//hacksw/handcal//NONSGML v1.0//EN
BEGIN:VEVENT
UID:e3db38e0efabf90c8b435ed22fcb6ef7
DTSTAMP:20260425T115925Z

DTSTART:20120831T200000
DTEND:20120901T040000
SUMMARY:Britten - Seminarium u. Panzbruch
DESCRIPTION:Nähere Auskünfte über die Exkursionen erteilt Andreas Werno, Tel. 06874/182370\nBei Teilnahme bitte telefonische Anmeldung ab 17 Uhr -\nspätestens 18 Uhr des Exkursionstages. Änderungen sind jederzeit möglich.

X-ALT-DESC;FMTTYPE=text/html:<!DOCTYPE HTML PUBLIC "-//W3C//DTD HTML 3.2//EN">\n<HTML>\n<HEAD>\n<META NAME="Generator" CONTENT="MS Exchange Server version 08.00.0681.000">\n<TITLE></TITLE>\n</HEAD>\n<BODY>\n<!-- Converted from text/rtf format -->\n\nNähere Auskünfte über die Exkursionen erteilt Andreas Werno, Tel. 06874/182370<br />Bei Teilnahme bitte telefonische Anmeldung ab 17 Uhr -<br />spätestens 18 Uhr des Exkursionstages. Änderungen sind jederzeit möglich.\n\n</BODY>\n</HTML>

LOCATION:Britten - Seminarium u. Panzbruch 6405-414-31-20
END:VEVENT

END:VCALENDAR
