BEGIN:VCALENDAR
VERSION:2.0
PRODID:-//hacksw/handcal//NONSGML v1.0//EN
BEGIN:VEVENT
UID:ad6f8461c71ad475b73993cab35f9c9b
DTSTAMP:20260420T121713Z

DTSTART:20130712T200000
DTEND:20130713T040000
SUMMARY:Lichtfang  Schattertrisch (Schatterberg)
DESCRIPTION:Nähere Auskünfte über die Exkursionen erteilt Andreas Werno, Tel. 06874/182370\nBei Teilnahme bitte telefonische Anmeldung ab 17 Uhr -\nspätestens 18 Uhr des Exkursionstages. Änderungen sind jederzeit möglich.

X-ALT-DESC;FMTTYPE=text/html:<!DOCTYPE HTML PUBLIC "-//W3C//DTD HTML 3.2//EN">\n<HTML>\n<HEAD>\n<META NAME="Generator" CONTENT="MS Exchange Server version 08.00.0681.000">\n<TITLE></TITLE>\n</HEAD>\n<BODY>\n<!-- Converted from text/rtf format -->\n\n<p>Nähere Auskünfte über die Exkursionen erteilt Andreas Werno, Tel. 06874/182370<br />Bei Teilnahme bitte telefonische Anmeldung ab 17 Uhr -<br />spätestens 18 Uhr des Exkursionstages. Änderungen sind jederzeit möglich.</p>\n\n</BODY>\n</HTML>

LOCATION:Schattertrisch (Schatterberg)
END:VEVENT

END:VCALENDAR
