BEGIN:VCALENDAR
VERSION:2.0
PRODID:-//hacksw/handcal//NONSGML v1.0//EN
BEGIN:VEVENT
UID:fc4bc9cedf9a086c661f305a0b6675bd
DTSTAMP:20260419T164953Z

DTSTART:20150523T090000
DTEND:20150524T190000
SUMMARY:Exkursion zu Lycaena helle
DESCRIPTION:Die genaue Terminfestsetzung müssen wir noch mit dem Beginn der Flugzeit synchronisieren!

X-ALT-DESC;FMTTYPE=text/html:<!DOCTYPE HTML PUBLIC "-//W3C//DTD HTML 3.2//EN">\n<HTML>\n<HEAD>\n<META NAME="Generator" CONTENT="MS Exchange Server version 08.00.0681.000">\n<TITLE></TITLE>\n</HEAD>\n<BODY>\n<!-- Converted from text/rtf format -->\n\n<p>Die genaue Terminfestsetzung müssen wir noch mit dem Beginn der Flugzeit synchronisieren!</p>\n\n</BODY>\n</HTML>

LOCATION:wird nur vertrauenswürdigen Exkursionsteilnehmern mitgeteilt!
END:VEVENT

END:VCALENDAR
