BEGIN:VCALENDAR
VERSION:2.0
PRODID:-//hacksw/handcal//NONSGML v1.0//EN
BEGIN:VEVENT
UID:2ed86a07cf0706988585288a4fbdc3e4
DTSTAMP:20260420T085555Z

DTSTART:20160729T070000
DTEND:20160801T181500
SUMMARY:Fotoexkursion zu den Erebien in den Hochvogesen (und Weinprobe)
DESCRIPTION:Packt den Fotorucksack! Auf zwei Wanderungen wird es Ende Juli durch die Hochvogesen gehen. Unterkunft und Weinproben werden organisiert. Zum Einstimmen:http://www.schmetterlingsforum.de/eb/blogstartseite/entry/exkursion-am-hohneck-directors-cut.html

X-ALT-DESC;FMTTYPE=text/html:<!DOCTYPE HTML PUBLIC "-//W3C//DTD HTML 3.2//EN">\n<HTML>\n<HEAD>\n<META NAME="Generator" CONTENT="MS Exchange Server version 08.00.0681.000">\n<TITLE></TITLE>\n</HEAD>\n<BODY>\n<!-- Converted from text/rtf format -->\n\n<p>Packt den Fotorucksack! Auf zwei Wanderungen wird es Ende Juli durch die Hochvogesen gehen. Unterkunft und Weinproben werden organisiert. </p><p>Zum Einstimmen:</p><p>http://www.schmetterlingsforum.de/eb/blogstartseite/entry/exkursion-am-hohneck-directors-cut.html</p>\n\n</BODY>\n</HTML>

LOCATION:Hochvogesen, Veranstaltungsort wird nur registrierten und vertrauenswürdigen Teilnehmern mitgeteilt.
END:VEVENT

END:VCALENDAR
